BEGIN:VCALENDAR
VERSION:2.0
PRODID:-//jEvents 2.0 for Joomla//EN
CALSCALE:GREGORIAN
METHOD:PUBLISH
BEGIN:VEVENT
UID:5b9cd6710803a217212679afbbd85e38
CATEGORIES:Veranstaltungen
CREATED:20210118T094145
SUMMARY:Schulführungen
DESCRIPTION:<p>Heute finden wieder Schulführungen statt!</p><p>Die Anmeldung bitte vora
 b telefonisch oder per Mail <span id="cloake2d6dc4234bdbfe6395cc432526a7474
 ">Diese E-Mail-Adresse ist vor Spambots geschützt! Zur Anzeige muss JavaScr
 ipt eingeschaltet sein!</span><script type='text/javascript'>
				document.
 getElementById('cloake2d6dc4234bdbfe6395cc432526a7474').innerHTML = '';
			
 	var prefix = '&#109;a' + 'i&#108;' + '&#116;o';
				var path = 'hr' + 'ef'
  + '=';
				var addye2d6dc4234bdbfe6395cc432526a7474 = 'h&#97;k-hlw-r&#101;
 &#117;tt&#101;' + '&#64;';
				addye2d6dc4234bdbfe6395cc432526a7474 = addye
 2d6dc4234bdbfe6395cc432526a7474 + 'tsn' + '&#46;' + '&#97;t';
				var addy_
 texte2d6dc4234bdbfe6395cc432526a7474 = 'h&#97;k-hlw-r&#101;&#117;tt&#101;' 
 + '&#64;' + 'tsn' + '&#46;' + '&#97;t';document.getElementById('cloake2d6dc
 4234bdbfe6395cc432526a7474').innerHTML += '<a ' + path + '\'' + prefix + ':
 ' + addye2d6dc4234bdbfe6395cc432526a7474 + '\'>'+addy_texte2d6dc4234bdbfe63
 95cc432526a7474+'<\/a>';
		</script> durchführen.</p><p>Wir freuen uns auf 
 Ihren Besuch!</p>
DTSTAMP:20260425T185452
DTSTART:20210125T160000
DTEND:20210125T180000
SEQUENCE:0
TRANSP:OPAQUE
END:VEVENT
END:VCALENDAR