BEGIN:VCALENDAR
VERSION:2.0
PRODID:-//jEvents 2.0 for Joomla//EN
CALSCALE:GREGORIAN
METHOD:PUBLISH
BEGIN:VEVENT
UID:6cf2869c192184d43113d01682134868
CATEGORIES:Veranstaltungen
CREATED:20210118T094008
SUMMARY:Kompensationsprüfungen
DESCRIPTION:
DTSTAMP:20260425T185319
DTSTART:20210128T070000
DTEND:20210128T110000
SEQUENCE:0
TRANSP:OPAQUE
END:VEVENT
END:VCALENDAR