BEGIN:VCALENDAR
VERSION:2.0
PRODID:-//jEvents 2.0 for Joomla//EN
CALSCALE:GREGORIAN
METHOD:PUBLISH
BEGIN:VEVENT
UID:0b143cd3793228959089acb549fce058
CATEGORIES:Veranstaltungen
CREATED:20210108T081908
SUMMARY:Semesterferien
DESCRIPTION:
DTSTAMP:20260426T000023
DTSTART:20210208T070000
DTEND:20210214T160000
SEQUENCE:0
TRANSP:OPAQUE
END:VEVENT
END:VCALENDAR