BEGIN:VCALENDAR
VERSION:2.0
PRODID:-//jEvents 2.0 for Joomla//EN
CALSCALE:GREGORIAN
METHOD:PUBLISH
BEGIN:VEVENT
UID:699ea0e20b7667a143eb6d4169a61a74
CATEGORIES:Veranstaltungen
CREATED:20201209T154425
SUMMARY:Schulführungen
DESCRIPTION:<p>Heute finden wieder Schulführungen statt!</p><p>Die Anmeldung bitte vora
 b telefonisch oder per Mail <span id="cloak60cdc18d860d518cb0a5258d508d374d
 ">Diese E-Mail-Adresse ist vor Spambots geschützt! Zur Anzeige muss JavaScr
 ipt eingeschaltet sein!</span><script type='text/javascript'>
				document.
 getElementById('cloak60cdc18d860d518cb0a5258d508d374d').innerHTML = '';
			
 	var prefix = '&#109;a' + 'i&#108;' + '&#116;o';
				var path = 'hr' + 'ef'
  + '=';
				var addy60cdc18d860d518cb0a5258d508d374d = 'h&#97;k-hlw-r&#101;
 &#117;tt&#101;' + '&#64;';
				addy60cdc18d860d518cb0a5258d508d374d = addy6
 0cdc18d860d518cb0a5258d508d374d + 'tsn' + '&#46;' + '&#97;t';
				var addy_
 text60cdc18d860d518cb0a5258d508d374d = 'h&#97;k-hlw-r&#101;&#117;tt&#101;' 
 + '&#64;' + 'tsn' + '&#46;' + '&#97;t';document.getElementById('cloak60cdc1
 8d860d518cb0a5258d508d374d').innerHTML += '<a ' + path + '\'' + prefix + ':
 ' + addy60cdc18d860d518cb0a5258d508d374d + '\'>'+addy_text60cdc18d860d518cb
 0a5258d508d374d+'<\/a>';
		</script> durchführen.</p><p>Wir freuen uns auf 
 Ihren Besuch!</p>
DTSTAMP:20260425T204329
DTSTART:20210127T160000
DTEND:20210127T180000
SEQUENCE:0
TRANSP:OPAQUE
END:VEVENT
END:VCALENDAR