BEGIN:VCALENDAR
VERSION:2.0
PRODID:-//jEvents 2.0 for Joomla//EN
CALSCALE:GREGORIAN
METHOD:PUBLISH
BEGIN:VEVENT
UID:a2d70d47454e3fb1461ce07e9bcabe90
CATEGORIES:Veranstaltungen
CREATED:20201209T154345
SUMMARY:Schulführungen
DESCRIPTION:Heute finden wieder Schulführungen statt!\nDie Anmeldung bitte vorab telefo
 nisch oder per Mail Diese E-Mail-Adresse ist vor Spambots geschützt! Zur An
 zeige muss JavaScript eingeschaltet sein!
				document.getElementById('cloa
 k9380ab9ef8c491fb63fad4788757b9df').innerHTML = '';
				var prefix = '&#109
 ;a' + 'i&#108;' + '&#116;o';
				var path = 'hr' + 'ef' + '=';
				var addy
 9380ab9ef8c491fb63fad4788757b9df = 'h&#97;k-hlw-r&#101;&#117;tt&#101;' + '&
 #64;';
				addy9380ab9ef8c491fb63fad4788757b9df = addy9380ab9ef8c491fb63fad
 4788757b9df + 'tsn' + '&#46;' + '&#97;t';
				var addy_text9380ab9ef8c491fb
 63fad4788757b9df = 'h&#97;k-hlw-r&#101;&#117;tt&#101;' + '&#64;' + 'tsn' + 
 '&#46;' + '&#97;t';document.getElementById('cloak9380ab9ef8c491fb63fad47887
 57b9df').innerHTML += '<a ' + path + '\'' + prefix + ':' + addy9380ab9ef8c4
 91fb63fad4788757b9df + '\'>'+addy_text9380ab9ef8c491fb63fad4788757b9df+'';

 		 durchführen.\nWir freuen uns auf Ihren Besuch!\n
X-ALT-DESC;FMTTYPE=text/html:<p>Heute finden wieder Schulführungen statt!</p><p>Die Anmeldung bitte vora
 b telefonisch oder per Mail <span id="cloak9380ab9ef8c491fb63fad4788757b9df
 ">Diese E-Mail-Adresse ist vor Spambots geschützt! Zur Anzeige muss JavaScr
 ipt eingeschaltet sein!</span><script type='text/javascript'>
				document.
 getElementById('cloak9380ab9ef8c491fb63fad4788757b9df').innerHTML = '';
			
 	var prefix = '&#109;a' + 'i&#108;' + '&#116;o';
				var path = 'hr' + 'ef'
  + '=';
				var addy9380ab9ef8c491fb63fad4788757b9df = 'h&#97;k-hlw-r&#101;
 &#117;tt&#101;' + '&#64;';
				addy9380ab9ef8c491fb63fad4788757b9df = addy9
 380ab9ef8c491fb63fad4788757b9df + 'tsn' + '&#46;' + '&#97;t';
				var addy_
 text9380ab9ef8c491fb63fad4788757b9df = 'h&#97;k-hlw-r&#101;&#117;tt&#101;' 
 + '&#64;' + 'tsn' + '&#46;' + '&#97;t';document.getElementById('cloak9380ab
 9ef8c491fb63fad4788757b9df').innerHTML += '<a ' + path + '\'' + prefix + ':
 ' + addy9380ab9ef8c491fb63fad4788757b9df + '\'>'+addy_text9380ab9ef8c491fb6
 3fad4788757b9df+'<\/a>';
		</script> durchführen.</p><p>Wir freuen uns auf 
 Ihren Besuch!</p>
DTSTAMP:20260425T204011
DTSTART:20210120T160000
DTEND:20210120T180000
SEQUENCE:0
TRANSP:OPAQUE
END:VEVENT
END:VCALENDAR