BEGIN:VCALENDAR
VERSION:2.0
PRODID:-//jEvents 2.0 for Joomla//EN
CALSCALE:GREGORIAN
METHOD:PUBLISH
BEGIN:VEVENT
UID:e2e2f059855c41d8c39f32abd1a8222a
CATEGORIES:Veranstaltungen
CREATED:20201209T154252
SUMMARY:Informationsveranstaltung Schulführung - nach telefonischer Anmeldung möglich
DESCRIPTION:
DTSTAMP:20260425T185500
DTSTART:20210113T160000
DTEND:20210113T180000
SEQUENCE:0
TRANSP:OPAQUE
END:VEVENT
END:VCALENDAR