BEGIN:VCALENDAR
VERSION:2.0
PRODID:-//jEvents 2.0 for Joomla//EN
CALSCALE:GREGORIAN
METHOD:PUBLISH
BEGIN:VEVENT
UID:baae2f99525ee2fa3df437baaa04cb52
CATEGORIES:Veranstaltungen
CREATED:20201209T154158
SUMMARY:Informationsveranstaltung Schulführung - nach telefonischer Anmeldung möglich
DESCRIPTION:
DTSTAMP:20260425T223830
DTSTART:20201221T160000
DTEND:20201221T180000
SEQUENCE:0
TRANSP:OPAQUE
END:VEVENT
END:VCALENDAR