BEGIN:VCALENDAR
VERSION:2.0
PRODID:-//jEvents 2.0 for Joomla//EN
CALSCALE:GREGORIAN
METHOD:PUBLISH
BEGIN:VEVENT
UID:6c76f7e872507c50c7ac47a71727dff4
CATEGORIES:Veranstaltungen
CREATED:20201209T154012
SUMMARY:Informationsveranstaltung Schulführung - nur nach telefonischer Anmeldung möglich
DESCRIPTION:
DTSTAMP:20260425T223354
DTSTART:20201209T160000
DTEND:20201209T180000
SEQUENCE:0
TRANSP:OPAQUE
END:VEVENT
END:VCALENDAR