BEGIN:VCALENDAR
VERSION:2.0
PRODID:-//jEvents 2.0 for Joomla//EN
CALSCALE:GREGORIAN
METHOD:PUBLISH
BEGIN:VEVENT
UID:cef595d91fe7912c7fdf05e88995e822
CATEGORIES:Veranstaltungen
CREATED:20201008T114105
SUMMARY:2. Nebentermin RDP 2019/20 Angewandte Mathematik
DESCRIPTION:
DTSTAMP:20260425T185332
DTSTART:20210112T070000
DTEND:20210112T110000
SEQUENCE:0
TRANSP:OPAQUE
END:VEVENT
END:VCALENDAR