BEGIN:VCALENDAR
VERSION:2.0
PRODID:-//jEvents 2.0 for Joomla//EN
CALSCALE:GREGORIAN
METHOD:PUBLISH
BEGIN:VEVENT
UID:047fbd8ecb44c42d174573e317d0bd9f
CATEGORIES:Veranstaltungen
CREATED:20201008T114026
SUMMARY:2. Nebentermin RDP 2019/20 Angewandte Betriebswirtschaft und Rechnungswesen
DESCRIPTION:
DTSTAMP:20260425T185507
DTSTART:20210111T070000
DTEND:20210111T110000
SEQUENCE:0
TRANSP:OPAQUE
END:VEVENT
END:VCALENDAR