BEGIN:VCALENDAR
VERSION:2.0
PRODID:-//jEvents 2.0 for Joomla//EN
CALSCALE:GREGORIAN
METHOD:PUBLISH
BEGIN:VEVENT
UID:7f5e91fb9a9b6e512e5691d7e01473ef
CATEGORIES:Termine
CREATED:20201005T092209
SUMMARY:1. pädagogische Konferenz
DESCRIPTION:<p>Vorstellung Schulpsychologie</p><p>Aktuelles</p><p>MS Teams</p>
DTSTAMP:20260426T020218
DTSTART:20201014T140000
DTEND:20201014T160000
SEQUENCE:0
TRANSP:OPAQUE
END:VEVENT
END:VCALENDAR