BEGIN:VCALENDAR
VERSION:2.0
PRODID:-//jEvents 2.0 for Joomla//EN
CALSCALE:GREGORIAN
METHOD:PUBLISH
BEGIN:VEVENT
UID:ca550a52cc660953daad56ef47d00073
CATEGORIES:Veranstaltungen
CREATED:20200924T164341
SUMMARY:Feiertag Maria Empfängnis - schulfrei
DESCRIPTION:
DTSTAMP:20260425T224050
DTSTART:20201208T070000
DTEND:20201208T160000
SEQUENCE:0
TRANSP:OPAQUE
END:VEVENT
END:VCALENDAR