BEGIN:VCALENDAR
VERSION:2.0
PRODID:-//jEvents 2.0 for Joomla//EN
CALSCALE:GREGORIAN
METHOD:PUBLISH
BEGIN:VEVENT
UID:ec4385626056090ef614dbf3471e941b
CATEGORIES:Veranstaltungen
CREATED:20200924T164302
SUMMARY:3. schulautonomer Tag - schulfrei
DESCRIPTION:
DTSTAMP:20260425T223829
DTSTART:20201207T070000
DTEND:20201207T160000
SEQUENCE:0
TRANSP:OPAQUE
END:VEVENT
END:VCALENDAR