BEGIN:VCALENDAR
VERSION:2.0
PRODID:-//jEvents 2.0 for Joomla//EN
CALSCALE:GREGORIAN
METHOD:PUBLISH
BEGIN:VEVENT
UID:dd633f4ca336097fb6642dc98ab01b50
CATEGORIES:Veranstaltungen
CREATED:20200924T163830
SUMMARY:1. Elternsprechtag
DESCRIPTION:Der Elternsprechtag wurde auf den 10.12.2020 verschoben.\nDieser wird digit
 al durchgeführt über die Accounts von MS Teams bzw. auch über Telefon.\nEs 
 wird ein Online-Reservierungssystem geben, damit ein geregelter Ablauf gesi
 chert werden kann.\nNähere Informationen dazu folgen noch.\nDie Schulleitun
 g\n
X-ALT-DESC;FMTTYPE=text/html:<p>Der Elternsprechtag wurde auf den 10.12.2020 verschoben.</p><p>Dieser wi
 rd digital durchgeführt über die Accounts von MS Teams bzw. auch über Telef
 on.</p><p>Es wird ein Online-Reservierungssystem geben, damit ein geregelte
 r Ablauf gesichert werden kann.</p><p>Nähere Informationen dazu folgen noch
 .</p><p>Die Schulleitung</p>
DTSTAMP:20260426T000024
DTSTART:20201210T153000
DTEND:20201210T183000
SEQUENCE:0
TRANSP:OPAQUE
END:VEVENT
END:VCALENDAR