BEGIN:VCALENDAR
VERSION:2.0
PRODID:-//jEvents 2.0 for Joomla//EN
CALSCALE:GREGORIAN
METHOD:PUBLISH
BEGIN:VEVENT
UID:bcec045df44275713bc259c890273cef
CATEGORIES:Veranstaltungen
CREATED:20200911T104101
SUMMARY:Virtueller Tag der offenen Tür
DESCRIPTION:
DTSTAMP:20260425T190930
DTSTART:20210115T120000
DTEND:20210115T160000
SEQUENCE:0
TRANSP:OPAQUE
END:VEVENT
END:VCALENDAR