BEGIN:VCALENDAR
VERSION:2.0
PRODID:-//jEvents 2.0 for Joomla//EN
CALSCALE:GREGORIAN
METHOD:PUBLISH
BEGIN:VEVENT
UID:a2dcdfa360e464c2424e9394fc0c53b4
CATEGORIES:Veranstaltungen
CREATED:20200131T104909
SUMMARY:Konferenz 14.30 Uhr
DESCRIPTION:
DTSTAMP:20260425T222113
DTSTART:20200204T133000
DTEND:20200204T160000
SEQUENCE:0
TRANSP:OPAQUE
END:VEVENT
END:VCALENDAR