BEGIN:VCALENDAR
VERSION:2.0
PRODID:-//jEvents 2.0 for Joomla//EN
CALSCALE:GREGORIAN
METHOD:PUBLISH
BEGIN:VEVENT
UID:71473e814112798d07cb18cb4ac0a6a2
CATEGORIES:Veranstaltungen
CREATED:20200122T154836
SUMMARY:Workshop ISI mit Fa. Speckbacher 3W
DESCRIPTION:
DTSTAMP:20260426T015936
DTSTART:20200226T120000
DTEND:20200226T160000
SEQUENCE:0
TRANSP:OPAQUE
END:VEVENT
END:VCALENDAR