BEGIN:VCALENDAR
VERSION:2.0
PRODID:-//jEvents 2.0 for Joomla//EN
CALSCALE:GREGORIAN
METHOD:PUBLISH
BEGIN:VEVENT
UID:e9ce6208413999325b640b345b40ead0
CATEGORIES:Veranstaltungen
CREATED:20190911T103425
SUMMARY:Notenschluss 11.00 Uhr
DESCRIPTION:
DTSTAMP:20260425T222055
DTSTART:20200204T130000
DTEND:20200204T150000
SEQUENCE:0
TRANSP:OPAQUE
END:VEVENT
END:VCALENDAR