BEGIN:VCALENDAR
VERSION:2.0
PRODID:-//jEvents 2.0 for Joomla//EN
CALSCALE:GREGORIAN
METHOD:PUBLISH
BEGIN:VEVENT
UID:0da30091bc7afbfcf0e28a3c7b15e32b
CATEGORIES:Veranstaltungen
CREATED:20190724T105633
SUMMARY:Semesterferien
DESCRIPTION:
DTSTAMP:20260425T235927
DTSTART:20200210T070000
DTEND:20200214T160000
SEQUENCE:0
TRANSP:OPAQUE
END:VEVENT
END:VCALENDAR