BEGIN:VCALENDAR
VERSION:2.0
PRODID:-//jEvents 2.0 for Joomla//EN
CALSCALE:GREGORIAN
METHOD:PUBLISH
BEGIN:VEVENT
UID:ce3696e8ba9f9349316a438c6a7c33a2
CATEGORIES:Veranstaltungen
CREATED:20260424T083806
SUMMARY:4WA und 4WB Workshop Taping mit Orthopäde
DESCRIPTION:
DTSTAMP:20260425T131029
DTSTART:20260513T140500
DTEND:20260513T150000
SEQUENCE:0
TRANSP:OPAQUE
END:VEVENT
END:VCALENDAR