BEGIN:VCALENDAR
VERSION:2.0
PRODID:-//jEvents 2.0 for Joomla//EN
CALSCALE:GREGORIAN
METHOD:PUBLISH
BEGIN:VEVENT
UID:883a8573e2f3272a4e7cf910ef2e436b
CATEGORIES:Veranstaltungen
CREATED:20260224T095635
SUMMARY:Exkursion der 5.HTL-Klassen ins Landesgericht Innsbruck
DESCRIPTION:
DTSTAMP:20260425T120757
DTSTART:20260416T060000
DTEND:20260416T150000
SEQUENCE:0
TRANSP:OPAQUE
END:VEVENT
END:VCALENDAR