BEGIN:VCALENDAR
VERSION:2.0
PRODID:-//jEvents 2.0 for Joomla//EN
CALSCALE:GREGORIAN
METHOD:PUBLISH
BEGIN:VEVENT
UID:1fdd0d4dd543919606c45ec85ee8accb
CATEGORIES:Veranstaltungen
CREATED:20260216T132904
SUMMARY:Kurs "Erste Hilfe für die Seele"
DESCRIPTION:
DTSTAMP:20260425T152957
DTSTART:20260221T073000
DTEND:20260221T113000
SEQUENCE:0
TRANSP:OPAQUE
END:VEVENT
END:VCALENDAR