BEGIN:VCALENDAR
VERSION:2.0
PRODID:-//jEvents 2.0 for Joomla//EN
CALSCALE:GREGORIAN
METHOD:PUBLISH
BEGIN:VEVENT
UID:1bc1eb4a44bf38e44513cac1dc8a01b5
CATEGORIES:Veranstaltungen
CREATED:20260216T132833
SUMMARY:Kurs "Erste Hilfe für die Seele"
DESCRIPTION:
DTSTAMP:20260425T152644
DTSTART:20260227T130000
DTEND:20260227T170000
SEQUENCE:0
TRANSP:OPAQUE
END:VEVENT
END:VCALENDAR