BEGIN:VCALENDAR
VERSION:2.0
PRODID:-//jEvents 2.0 for Joomla//EN
CALSCALE:GREGORIAN
METHOD:PUBLISH
BEGIN:VEVENT
UID:538110dfea43d6bbda944447dd58ff67
CATEGORIES:Veranstaltungen
CREATED:20260216T132656
SUMMARY:Kurs "Erste Hilfe für die Seele"
DESCRIPTION:
DTSTAMP:20260425T153014
DTSTART:20260220T130000
DTEND:20260220T170000
SEQUENCE:0
TRANSP:OPAQUE
END:VEVENT
END:VCALENDAR