BEGIN:VCALENDAR
VERSION:2.0
PRODID:-//jEvents 2.0 for Joomla//EN
CALSCALE:GREGORIAN
METHOD:PUBLISH
BEGIN:VEVENT
UID:81e4de387d73dbc8a3201064c08d7ed0
CATEGORIES:Veranstaltungen
CREATED:20260128T093009
SUMMARY:Exkursion der Klassen 4A,5WA und 5WB ins Landesgericht Innsbruck
DESCRIPTION:
DTSTAMP:20260425T152955
DTSTART:20260217T070000
DTEND:20260217T160000
SEQUENCE:0
TRANSP:OPAQUE
END:VEVENT
END:VCALENDAR