BEGIN:VCALENDAR
VERSION:2.0
PRODID:-//jEvents 2.0 for Joomla//EN
CALSCALE:GREGORIAN
METHOD:PUBLISH
BEGIN:VEVENT
UID:01da2b2608f2717dddbd858ecdee6da5
CATEGORIES:Veranstaltungen
CREATED:20260128T092925
SUMMARY:Klasse 4A Präsentation des Plakates "Safer Internet" bei der Eröffnung des neuen Sicherheitszentrums in Innsbruck
DESCRIPTION:
DTSTAMP:20260425T164051
DTSTART:20260205T090000
DTEND:20260205T110000
SEQUENCE:0
TRANSP:OPAQUE
END:VEVENT
END:VCALENDAR