BEGIN:VCALENDAR
VERSION:2.0
PRODID:-//jEvents 2.0 for Joomla//EN
CALSCALE:GREGORIAN
METHOD:PUBLISH
BEGIN:VEVENT
UID:9f995272cfa6eba86b5503ffc1e43c6d
CATEGORIES:Veranstaltungen
CREATED:20260121T134628
SUMMARY:Fototermin Schuljahr 2026/2027
DESCRIPTION:
DTSTAMP:20260425T214100
DTSTART:20261012T060000
DTEND:20261013T150000
SEQUENCE:0
TRANSP:OPAQUE
END:VEVENT
END:VCALENDAR