BEGIN:VCALENDAR
VERSION:2.0
PRODID:-//jEvents 2.0 for Joomla//EN
CALSCALE:GREGORIAN
METHOD:PUBLISH
BEGIN:VEVENT
UID:62ac9741c60d911b0e1ea98f718bd27a
CATEGORIES:Veranstaltungen
CREATED:20260121T083600
SUMMARY:Osterbacken mit der VS Archbach in der HLW
DESCRIPTION:
DTSTAMP:20260425T133858
DTSTART:20260324T090000
DTEND:20260324T110000
SEQUENCE:0
TRANSP:OPAQUE
END:VEVENT
END:VCALENDAR