BEGIN:VCALENDAR
VERSION:2.0
PRODID:-//jEvents 2.0 for Joomla//EN
CALSCALE:GREGORIAN
METHOD:PUBLISH
BEGIN:VEVENT
UID:28ef656293f28e9e67b307d60bbae66c
CATEGORIES:Veranstaltungen
CREATED:20260121T083501
SUMMARY:Exkursion der 4.HTL ins MCI Innsbruck
DESCRIPTION:
DTSTAMP:20260425T154558
DTSTART:20260211T070000
DTEND:20260211T160000
SEQUENCE:0
TRANSP:OPAQUE
END:VEVENT
END:VCALENDAR