BEGIN:VCALENDAR
VERSION:2.0
PRODID:-//jEvents 2.0 for Joomla//EN
CALSCALE:GREGORIAN
METHOD:PUBLISH
BEGIN:VEVENT
UID:f6b7b635a392741aa1dbd894e327cacb
CATEGORIES:Veranstaltungen
CREATED:20260121T083032
SUMMARY:Uni goes Reutte: Zwischen Hitzerekord und Schneekanonen - Tourismus im Klimastress
DESCRIPTION:
DTSTAMP:20260425T164102
DTSTART:20260205T180000
DTEND:20260205T200000
SEQUENCE:0
TRANSP:OPAQUE
END:VEVENT
END:VCALENDAR