BEGIN:VCALENDAR
VERSION:2.0
PRODID:-//jEvents 2.0 for Joomla//EN
CALSCALE:GREGORIAN
METHOD:PUBLISH
BEGIN:VEVENT
UID:a2b2ec6b24deb312fb71e1d727e7cff3
CATEGORIES:Veranstaltungen
CREATED:20260121T082900
SUMMARY:Diplomarbeiten Kick-Off-Veranstaltung 4A und 4AHWII
DESCRIPTION:
DTSTAMP:20260425T152645
DTSTART:20260223T095500
DTEND:20260223T123500
SEQUENCE:0
TRANSP:OPAQUE
END:VEVENT
END:VCALENDAR