BEGIN:VCALENDAR
VERSION:2.0
PRODID:-//jEvents 2.0 for Joomla//EN
CALSCALE:GREGORIAN
METHOD:PUBLISH
BEGIN:VEVENT
UID:bc8b09ec585417c917f06507e650192e
CATEGORIES:Veranstaltungen
CREATED:20260121T082722
SUMMARY:Diplomarbeiten Kick-Off-Veranstaltung 4WA und 4WA
DESCRIPTION:
DTSTAMP:20260425T152645
DTSTART:20260220T095500
DTEND:20260220T123500
SEQUENCE:0
TRANSP:OPAQUE
END:VEVENT
END:VCALENDAR