BEGIN:VCALENDAR
VERSION:2.0
PRODID:-//jEvents 2.0 for Joomla//EN
CALSCALE:GREGORIAN
METHOD:PUBLISH
BEGIN:VEVENT
UID:1b44d88d6566c8a16acbfa01ffa63b23
CATEGORIES:Veranstaltungen
CREATED:20260119T143326
SUMMARY:Vortrag über Kryptowährung mit Joachim Kranzler, BA MSc
DESCRIPTION:
DTSTAMP:20260425T101825
DTSTART:20260126T075500
DTEND:20260126T114000
SEQUENCE:0
TRANSP:OPAQUE
END:VEVENT
END:VCALENDAR