BEGIN:VCALENDAR
VERSION:2.0
PRODID:-//jEvents 2.0 for Joomla//EN
CALSCALE:GREGORIAN
METHOD:PUBLISH
BEGIN:VEVENT
UID:87a3c3801b83a9de389488d63d4c5bcf
CATEGORIES:Veranstaltungen
CREATED:20260113T115007
SUMMARY:Volleyballturnier in Innsbruck Reithmanngymnasium
DESCRIPTION:
DTSTAMP:20260425T150216
DTSTART:20260130T053000
DTEND:20260130T160000
SEQUENCE:0
TRANSP:OPAQUE
END:VEVENT
END:VCALENDAR