BEGIN:VCALENDAR
VERSION:2.0
PRODID:-//jEvents 2.0 for Joomla//EN
CALSCALE:GREGORIAN
METHOD:PUBLISH
BEGIN:VEVENT
UID:6737d4440a1b13741150b802ab46eecf
CATEGORIES:Veranstaltungen
CREATED:20251219T082307
SUMMARY:SGA-Sitzung HLW
DESCRIPTION:
DTSTAMP:20260425T115624
DTSTART:20260414T120000
DTEND:20260414T130000
SEQUENCE:0
TRANSP:OPAQUE
END:VEVENT
END:VCALENDAR