BEGIN:VCALENDAR
VERSION:2.0
PRODID:-//jEvents 2.0 for Joomla//EN
CALSCALE:GREGORIAN
METHOD:PUBLISH
BEGIN:VEVENT
UID:67f634336d924cb47919c09f1b4fef4a
CATEGORIES:Veranstaltungen
CREATED:20251219T082226
SUMMARY:SGA-Sitzung HTL
DESCRIPTION:
DTSTAMP:20260425T115532
DTSTART:20260413T140000
DTEND:20260413T150000
SEQUENCE:0
TRANSP:OPAQUE
END:VEVENT
END:VCALENDAR