BEGIN:VCALENDAR
VERSION:2.0
PRODID:-//jEvents 2.0 for Joomla//EN
CALSCALE:GREGORIAN
METHOD:PUBLISH
BEGIN:VEVENT
UID:be6b41e45a2c15cdec2f7c4c9b00b5d2
CATEGORIES:Veranstaltungen
CREATED:20251219T082143
SUMMARY:SGA-Sitzung HAK
DESCRIPTION:
DTSTAMP:20260425T115635
DTSTART:20260413T120000
DTEND:20260413T130000
SEQUENCE:0
TRANSP:OPAQUE
END:VEVENT
END:VCALENDAR