BEGIN:VCALENDAR
VERSION:2.0
PRODID:-//jEvents 2.0 for Joomla//EN
CALSCALE:GREGORIAN
METHOD:PUBLISH
BEGIN:VEVENT
UID:db30f2d21fd0397b9c14ca85972d03ee
CATEGORIES:Termine
CREATED:20180914T155937
SUMMARY:Semesterkonferenz
DESCRIPTION:
DTSTAMP:20260426T032448
DTSTART:20190205T150000
DTEND:20190205T200000
SEQUENCE:0
TRANSP:OPAQUE
END:VEVENT
END:VCALENDAR