BEGIN:VCALENDAR
VERSION:2.0
PRODID:-//jEvents 2.0 for Joomla//EN
CALSCALE:GREGORIAN
METHOD:PUBLISH
BEGIN:VEVENT
UID:d8585f45da1205da501425646d480a2c
CATEGORIES:Veranstaltungen
CREATED:20251112T103325
SUMMARY:Vortrag "Requiem in weiß" im Veranstaltungszentrum Reutte
DESCRIPTION:
DTSTAMP:20260425T171450
DTSTART:20251127T080000
DTEND:20251127T105000
SEQUENCE:0
TRANSP:OPAQUE
END:VEVENT
END:VCALENDAR