BEGIN:VCALENDAR
VERSION:2.0
PRODID:-//jEvents 2.0 for Joomla//EN
CALSCALE:GREGORIAN
METHOD:PUBLISH
BEGIN:VEVENT
UID:9301c14afbad0cd35074d788cdccb25c
CATEGORIES:Veranstaltungen
CREATED:20251112T103154
SUMMARY:Exkursion der 1.HAK ins Europahaus Reutte
DESCRIPTION:
DTSTAMP:20260425T171146
DTSTART:20251120T070000
DTEND:20251120T094000
SEQUENCE:0
TRANSP:OPAQUE
END:VEVENT
END:VCALENDAR