BEGIN:VCALENDAR
VERSION:2.0
PRODID:-//jEvents 2.0 for Joomla//EN
CALSCALE:GREGORIAN
METHOD:PUBLISH
BEGIN:VEVENT
UID:6c16cc84739de3be71e3122a891eeea9
CATEGORIES:Veranstaltungen
CREATED:20251112T103101
SUMMARY:Vorstellung der MOJA im Jugendzentrum Reutte für die ersten Klassen
DESCRIPTION:
DTSTAMP:20260425T171616
DTSTART:20251117T070000
DTEND:20251117T084500
SEQUENCE:0
TRANSP:OPAQUE
END:VEVENT
END:VCALENDAR