BEGIN:VCALENDAR
VERSION:2.0
PRODID:-//jEvents 2.0 for Joomla//EN
CALSCALE:GREGORIAN
METHOD:PUBLISH
BEGIN:VEVENT
UID:d309d6ae053687544cc0308b1b8e08ef
CATEGORIES:Veranstaltungen
CREATED:20251112T102908
SUMMARY:Suchtprävention Klasse 2WA und 2WB
DESCRIPTION:
DTSTAMP:20260425T171522
DTSTART:20251124T105000
DTEND:20251124T123500
SEQUENCE:0
TRANSP:OPAQUE
END:VEVENT
END:VCALENDAR