BEGIN:VCALENDAR
VERSION:2.0
PRODID:-//jEvents 2.0 for Joomla//EN
CALSCALE:GREGORIAN
METHOD:PUBLISH
BEGIN:VEVENT
UID:a90d43fc66c0aa3076b49bc27725f4bf
CATEGORIES:Veranstaltungen
CREATED:20251112T102828
SUMMARY:Suchtprävention Klasse 2.HAK
DESCRIPTION:
DTSTAMP:20260425T171128
DTSTART:20251124T085000
DTEND:20251124T104500
SEQUENCE:0
TRANSP:OPAQUE
END:VEVENT
END:VCALENDAR