BEGIN:VCALENDAR
VERSION:2.0
PRODID:-//jEvents 2.0 for Joomla//EN
CALSCALE:GREGORIAN
METHOD:PUBLISH
BEGIN:VEVENT
UID:abb5936e594fb86d50ae7391bff28802
CATEGORIES:Veranstaltungen
CREATED:20251112T102734
SUMMARY:Suchtprävention Klasse 2.HTL
DESCRIPTION:
DTSTAMP:20260425T152630
DTSTART:20251215T075500
DTEND:20251215T094000
SEQUENCE:0
TRANSP:OPAQUE
END:VEVENT
END:VCALENDAR