BEGIN:VCALENDAR
VERSION:2.0
PRODID:-//jEvents 2.0 for Joomla//EN
CALSCALE:GREGORIAN
METHOD:PUBLISH
BEGIN:VEVENT
UID:80372d5cc3e5f174672551a120d7b389
CATEGORIES:Veranstaltungen
CREATED:20251023T113246
SUMMARY:Weinseminar mit  Besler Rosa
DESCRIPTION:
DTSTAMP:20260425T152825
DTSTART:20251218T085000
DTEND:20251218T123500
SEQUENCE:0
TRANSP:OPAQUE
END:VEVENT
END:VCALENDAR