BEGIN:VCALENDAR
VERSION:2.0
PRODID:-//jEvents 2.0 for Joomla//EN
CALSCALE:GREGORIAN
METHOD:PUBLISH
BEGIN:VEVENT
UID:78afabdf8778c5bfcc660cae5ea0db12
CATEGORIES:Veranstaltungen
CREATED:20251021T115105
SUMMARY:Vortrag von Armin Wolf zum Thema "Medien"
DESCRIPTION:
DTSTAMP:20260425T133837
DTSTART:20260312T124000
DTEND:20260312T134000
SEQUENCE:0
TRANSP:OPAQUE
END:VEVENT
END:VCALENDAR