BEGIN:VCALENDAR
VERSION:2.0
PRODID:-//jEvents 2.0 for Joomla//EN
CALSCALE:GREGORIAN
METHOD:PUBLISH
BEGIN:VEVENT
UID:50c36f909754c86718325be77bc03c2d
CATEGORIES:Veranstaltungen
CREATED:20251017T111353
SUMMARY:Pfingstferien
DESCRIPTION:
DTSTAMP:20260425T131354
DTSTART:20260524T060000
DTEND:20260525T210000
SEQUENCE:0
TRANSP:OPAQUE
END:VEVENT
END:VCALENDAR