BEGIN:VCALENDAR
VERSION:2.0
PRODID:-//jEvents 2.0 for Joomla//EN
CALSCALE:GREGORIAN
METHOD:PUBLISH
BEGIN:VEVENT
UID:a865bd31adcab32608a38a48b8c07bac
CATEGORIES:Veranstaltungen
CREATED:20251017T111141
SUMMARY:Heute findet normaler Unterricht statt!
DESCRIPTION:
DTSTAMP:20260425T133924
DTSTART:20260320T070000
DTEND:20260320T123000
SEQUENCE:0
TRANSP:OPAQUE
END:VEVENT
END:VCALENDAR