BEGIN:VCALENDAR
VERSION:2.0
PRODID:-//jEvents 2.0 for Joomla//EN
CALSCALE:GREGORIAN
METHOD:PUBLISH
BEGIN:VEVENT
UID:2487904bf2afe0525ed750508461f77a
CATEGORIES:Veranstaltungen
CREATED:20251017T111027
SUMMARY:Landesfeiertag Josefi - schulfrei
DESCRIPTION:
DTSTAMP:20260425T133934
DTSTART:20260319T070000
DTEND:20260319T220000
SEQUENCE:0
TRANSP:OPAQUE
END:VEVENT
END:VCALENDAR