BEGIN:VCALENDAR
VERSION:2.0
PRODID:-//jEvents 2.0 for Joomla//EN
CALSCALE:GREGORIAN
METHOD:PUBLISH
BEGIN:VEVENT
UID:e2e7fabe7a57311da4bbec7f9ea5727d
CATEGORIES:Veranstaltungen
CREATED:20251017T105845
SUMMARY:Anprobe der Werkstättenkleidung für die 1. HTL 2026/2027
DESCRIPTION:
DTSTAMP:20260425T163240
DTSTART:20260713T060000
DTEND:20260717T130000
SEQUENCE:0
TRANSP:OPAQUE
END:VEVENT
END:VCALENDAR